BEGIN:VCALENDAR
VERSION:2.0
PRODID:-//Just for you ministries - ECPv6.15.20//NONSGML v1.0//EN
CALSCALE:GREGORIAN
METHOD:PUBLISH
X-WR-CALNAME:Just for you ministries
X-ORIGINAL-URL:https://justforuministries.org
X-WR-CALDESC:Events for Just for you ministries
REFRESH-INTERVAL;VALUE=DURATION:PT1H
X-Robots-Tag:noindex
X-PUBLISHED-TTL:PT1H
BEGIN:VTIMEZONE
TZID:UTC
BEGIN:STANDARD
TZOFFSETFROM:+0000
TZOFFSETTO:+0000
TZNAME:UTC
DTSTART:20210101T000000
END:STANDARD
END:VTIMEZONE
BEGIN:VEVENT
DTSTART;TZID=UTC:20220208T153000
DTEND;TZID=UTC:20220308T160000
DTSTAMP:20260421T061527
CREATED:20220216T195614Z
LAST-MODIFIED:20220216T195730Z
UID:20049-1644334200-1646755200@justforuministries.org
SUMMARY:JUST FOR U WITH SANDRA RILEY TV BROADCAST
DESCRIPTION:Watch “Just For U with Sandra Riley” every Tuesday at 3:30pm EST on Lifestream and 7:30pm on The Church Network! Available on your smart tv via Roku.
URL:https://justforuministries.org/event/just-for-u-with-sandra-riley-tv-broadcast-3/
LOCATION:Wisconsin
END:VEVENT
BEGIN:VEVENT
DTSTART;TZID=UTC:20220305T093000
DTEND;TZID=UTC:20220305T110000
DTSTAMP:20260421T061527
CREATED:20220218T160623Z
LAST-MODIFIED:20220218T161004Z
UID:20063-1646472600-1646478000@justforuministries.org
SUMMARY:Bishop's Leadership Conference - Bishop Mark Tolbert
DESCRIPTION:
URL:https://justforuministries.org/event/bishops-leadership-conference-bishop-mark-tolbert/
LOCATION:Victorious Life Church\, 3400 Paseo Blvd.\, Kansas City\, MO\, 64109\, United States
END:VEVENT
BEGIN:VEVENT
DTSTART;TZID=UTC:20220321T193000
DTEND;TZID=UTC:20220321T203000
DTSTAMP:20260421T061527
CREATED:20220309T130257Z
LAST-MODIFIED:20220309T130555Z
UID:20108-1647891000-1647894600@justforuministries.org
SUMMARY:I Survived Through Prayer
DESCRIPTION:
URL:https://justforuministries.org/event/i-survived-through-prayer/
LOCATION:Wisconsin
END:VEVENT
BEGIN:VEVENT
DTSTART;TZID=UTC:20220329T203000
DTEND;TZID=UTC:20220329T220000
DTSTAMP:20260421T061527
CREATED:20220218T161415Z
LAST-MODIFIED:20220218T161415Z
UID:20067-1648585800-1648591200@justforuministries.org
SUMMARY:Power 2 Win - Dr. Daniels-Carter
DESCRIPTION:
URL:https://justforuministries.org/event/power-2-win-dr-daniels-carter/
LOCATION:Wisconsin
END:VEVENT
BEGIN:VEVENT
DTSTART;TZID=UTC:20220330T190000
DTEND;TZID=UTC:20220330T210000
DTSTAMP:20260421T061527
CREATED:20220302T102848Z
LAST-MODIFIED:20220302T102848Z
UID:20093-1648666800-1648674000@justforuministries.org
SUMMARY:"March Madness" Revival
DESCRIPTION:Bishop Brandon A. Jacobs\, Sr. – Pastor
URL:https://justforuministries.org/event/march-madness-revival/
LOCATION:New Zion Temple\, 926 Morris St.\, Hammond\, 46320
END:VEVENT
END:VCALENDAR