BEGIN:VCALENDAR
VERSION:2.0
PRODID:-//Just for you ministries - ECPv6.15.20//NONSGML v1.0//EN
CALSCALE:GREGORIAN
METHOD:PUBLISH
X-WR-CALNAME:Just for you ministries
X-ORIGINAL-URL:https://justforuministries.org
X-WR-CALDESC:Events for Just for you ministries
REFRESH-INTERVAL;VALUE=DURATION:PT1H
X-Robots-Tag:noindex
X-PUBLISHED-TTL:PT1H
BEGIN:VTIMEZONE
TZID:UTC
BEGIN:STANDARD
TZOFFSETFROM:+0000
TZOFFSETTO:+0000
TZNAME:UTC
DTSTART:20210101T000000
END:STANDARD
END:VTIMEZONE
BEGIN:VEVENT
DTSTART;VALUE=DATE:20220919
DTEND;VALUE=DATE:20220920
DTSTAMP:20260422T070551
CREATED:20220426T201911Z
LAST-MODIFIED:20220528T200234Z
UID:20363-1663545600-1663631999@justforuministries.org
SUMMARY:STRATEGIES FOR SUCCESS - TOOLS TO BE SUCCESSFUL IN LIFE\, BUSINESS AND MINISTRY
DESCRIPTION:  \nNote: “All registrations are non-refundable”
URL:https://justforuministries.org/event/strategies-for-success-tools-to-be-successful-in-life-business-and-ministry/
LOCATION:Wisconsin
END:VEVENT
BEGIN:VEVENT
DTSTART;TZID=UTC:20220919T193000
DTEND;TZID=UTC:20220919T203000
DTSTAMP:20260422T070551
CREATED:20220917T095325Z
LAST-MODIFIED:20220917T095325Z
UID:20667-1663615800-1663619400@justforuministries.org
SUMMARY:30 Minutes of Prayer
DESCRIPTION:
URL:https://justforuministries.org/event/30-minutes-of-prayer-5/
LOCATION:Wisconsin
ORGANIZER;CN="Sandra":MAILTO:sandra@sandrariley.com
END:VEVENT
END:VCALENDAR