BEGIN:VCALENDAR
VERSION:2.0
PRODID:-//Just for you ministries - ECPv6.15.20//NONSGML v1.0//EN
CALSCALE:GREGORIAN
METHOD:PUBLISH
X-WR-CALNAME:Just for you ministries
X-ORIGINAL-URL:https://justforuministries.org
X-WR-CALDESC:Events for Just for you ministries
REFRESH-INTERVAL;VALUE=DURATION:PT1H
X-Robots-Tag:noindex
X-PUBLISHED-TTL:PT1H
BEGIN:VTIMEZONE
TZID:UTC
BEGIN:STANDARD
TZOFFSETFROM:+0000
TZOFFSETTO:+0000
TZNAME:UTC
DTSTART:20210101T000000
END:STANDARD
END:VTIMEZONE
BEGIN:VEVENT
DTSTART;TZID=UTC:20220510T153000
DTEND;TZID=UTC:20220510T163000
DTSTAMP:20260422T013928
CREATED:20220419T124708Z
LAST-MODIFIED:20220422T050143Z
UID:20143-1652196600-1652200200@justforuministries.org
SUMMARY:Life Stream Television With Sandra Riley
DESCRIPTION:
URL:https://justforuministries.org/event/live-stream-television-with-sandra-riley-3/
LOCATION:Wisconsin
END:VEVENT
BEGIN:VEVENT
DTSTART;TZID=UTC:20220712T183000
DTEND;TZID=UTC:20220712T193000
DTSTAMP:20260422T013928
CREATED:20220622T184330Z
LAST-MODIFIED:20220626T074844Z
UID:20525-1657650600-1657654200@justforuministries.org
SUMMARY:Free Virtual Live Interactive Master Class
DESCRIPTION:Join Pastor Sandra Riley and the Global Ministerial Institute for The Ministry Masterclass \n“Being Secure In Your Calling While Serving In Ministry” \nFree Virtual Live Interactive Master Class \nRegistration Is Required \nWe will cover… \nYour Calling: Have a clear vision of what you are called to do and why. \nYour Assignment: Know your individual assignment and purpose for being called to Ministry. \nYour Preparation: When you haven’t put in the work\, your best isn’t good enough. \nJuly 12\, 2022 @ 6:30pm CT/ 7:30pm ET \nJustforuministries.org
URL:https://justforuministries.org/event/free-virtual-live-interactive-master-class/
LOCATION:Wisconsin
ORGANIZER;CN="Sandra":MAILTO:sandra@sandrariley.com
END:VEVENT
BEGIN:VEVENT
DTSTART;TZID=UTC:20220503T193000
DTEND;TZID=UTC:20220503T203000
DTSTAMP:20260422T013928
CREATED:20220419T124622Z
LAST-MODIFIED:20220420T075253Z
UID:20141-1651606200-1651609800@justforuministries.org
SUMMARY:The Church Network With Sandra Riley
DESCRIPTION:
URL:https://justforuministries.org/event/live-stream-television-with-sandra-riley-2/
LOCATION:Wisconsin
END:VEVENT
END:VCALENDAR