BEGIN:VCALENDAR
VERSION:2.0
PRODID:-//Just for you ministries - ECPv6.15.20//NONSGML v1.0//EN
CALSCALE:GREGORIAN
METHOD:PUBLISH
X-WR-CALNAME:Just for you ministries
X-ORIGINAL-URL:https://justforuministries.org
X-WR-CALDESC:Events for Just for you ministries
REFRESH-INTERVAL;VALUE=DURATION:PT1H
X-Robots-Tag:noindex
X-PUBLISHED-TTL:PT1H
BEGIN:VTIMEZONE
TZID:UTC
BEGIN:STANDARD
TZOFFSETFROM:+0000
TZOFFSETTO:+0000
TZNAME:UTC
DTSTART:20210101T000000
END:STANDARD
END:VTIMEZONE
BEGIN:VEVENT
DTSTART;TZID=UTC:20220516T193000
DTEND;TZID=UTC:20220516T200000
DTSTAMP:20260421T175307
CREATED:20220430T084707Z
LAST-MODIFIED:20220430T084857Z
UID:20395-1652729400-1652731200@justforuministries.org
SUMMARY:30 Minutes of Prayer
DESCRIPTION:
URL:https://justforuministries.org/event/30-minutes-of-prayer-2/
LOCATION:Wisconsin
END:VEVENT
END:VCALENDAR