BEGIN:VCALENDAR
VERSION:2.0
PRODID:-//Just for you ministries - ECPv6.15.20//NONSGML v1.0//EN
CALSCALE:GREGORIAN
METHOD:PUBLISH
X-ORIGINAL-URL:https://justforuministries.org
X-WR-CALDESC:Events for Just for you ministries
REFRESH-INTERVAL;VALUE=DURATION:PT1H
X-Robots-Tag:noindex
X-PUBLISHED-TTL:PT1H
BEGIN:VTIMEZONE
TZID:UTC
BEGIN:STANDARD
TZOFFSETFROM:+0000
TZOFFSETTO:+0000
TZNAME:UTC
DTSTART:20210101T000000
END:STANDARD
END:VTIMEZONE
BEGIN:VEVENT
DTSTART;VALUE=DATE:20220513
DTEND;VALUE=DATE:20220516
DTSTAMP:20260421T192301
CREATED:20220407T055231Z
LAST-MODIFIED:20220407T055231Z
UID:20132-1652400000-1652659199@justforuministries.org
SUMMARY:Women's Conference 2022
DESCRIPTION:
URL:https://justforuministries.org/event/womens-conference-2022/
LOCATION:Osthoff Resort\, 101 Osthoff Ave\, Elkhart Lake\, WI 53020\, 101 Osthoff Ave\, WI\, Elkhart Lake\, WI\, 53020\, United States
END:VEVENT
BEGIN:VEVENT
DTSTART;TZID=UTC:20220515T090000
DTEND;TZID=UTC:20220515T100000
DTSTAMP:20260421T192301
CREATED:20220511T043148Z
LAST-MODIFIED:20220511T043148Z
UID:20444-1652605200-1652608800@justforuministries.org
SUMMARY:Sandra Riley & Just For U Ministries
DESCRIPTION:
URL:https://justforuministries.org/event/sandra-riley-just-for-u-ministries-2/
LOCATION:Wisconsin
END:VEVENT
END:VCALENDAR