BEGIN:VCALENDAR
VERSION:2.0
PRODID:-//Just for you ministries - ECPv6.15.20//NONSGML v1.0//EN
CALSCALE:GREGORIAN
METHOD:PUBLISH
X-WR-CALNAME:Just for you ministries
X-ORIGINAL-URL:https://justforuministries.org
X-WR-CALDESC:Events for Just for you ministries
REFRESH-INTERVAL;VALUE=DURATION:PT1H
X-Robots-Tag:noindex
X-PUBLISHED-TTL:PT1H
BEGIN:VTIMEZONE
TZID:UTC
BEGIN:STANDARD
TZOFFSETFROM:+0000
TZOFFSETTO:+0000
TZNAME:UTC
DTSTART:20210101T000000
END:STANDARD
END:VTIMEZONE
BEGIN:VEVENT
DTSTART;TZID=UTC:20220411T183000
DTEND;TZID=UTC:20220411T193000
DTSTAMP:20260421T061524
CREATED:20220302T052944Z
LAST-MODIFIED:20220302T052944Z
UID:20088-1649701800-1649705400@justforuministries.org
SUMMARY:Live On Purpose - Taking Action To Live With Intention
DESCRIPTION:Live On Purpose – “Taking Action To Live With Intention” This Virtual Interactive Masterclass will teach you…  \n• How To Close the Gap between where you are and where you want to be. \n• How To Shift From Accidental To Intentional Growth \n• How To Make The Transition From Stagnation To Intentional Living \nFree Inter-Active Master Class via Zoom.\nMonday\, April 11\, 2022 at 6:30pm CT / 7:30pm ET
URL:https://justforuministries.org/event/live-on-purpose-taking-action-to-live-with-intention/
LOCATION:Wisconsin
END:VEVENT
END:VCALENDAR